BEGIN:VCALENDAR
VERSION:2.0
PRODID:-//Tukios.com/
BEGIN:VEVENT
UID:67ac7469-ad20-4175-a4df-3a010107f6df@www.stehnfuneralhomes.com
DTSTAMP:20260422T230010Z
DTSTART:20260509T170000Z
DTEND:20260509T180000Z
SUMMARY:Celebration of Life
DESCRIPTION:Reception to follow
URL:https://www.stehnfuneralhomes.com/obituaries/dorothy-sorenson
LOCATION: 2906 Southeast Harrison Street  Milwaukie OR 97222
GEO:45.4462977;-122.6336205
END:VEVENT
END:VCALENDAR