BEGIN:VCALENDAR
VERSION:2.0
PRODID:-//Tukios.com/
BEGIN:VEVENT
UID:c9f8e154-5434-447e-9f8e-c5563179bb17@www.stehnfuneralhomes.com
DTSTAMP:20260425T015308Z
DTSTART:20260501T171500Z
DTEND:20260501T174500Z
SUMMARY:Cemetery Service
DESCRIPTION:
URL:https://www.stehnfuneralhomes.com/obituaries/jacqueline-bourquin
LOCATION: 11800 Southeast Mount Scott Boulevard  Portland OR 97086
GEO:45.459503;-122.5426447
END:VEVENT
END:VCALENDAR