BEGIN:VCALENDAR
VERSION:2.0
PRODID:-//Tukios.com/
BEGIN:VEVENT
UID:b50cb8da-16c5-4db0-bd89-746fd6d974c5@www.stehnfuneralhomes.com
DTSTAMP:20260425T015532Z
DTSTART:20260502T190000Z
DTEND:20260502T210000Z
SUMMARY:Celebration of Life
DESCRIPTION:
URL:https://www.stehnfuneralhomes.com/obituaries/jacqueline-bourquin
LOCATION:Rivercrest Park 131 Park Dr  Oregon City OR 97045
GEO:45.3453414;-122.6078799
END:VEVENT
END:VCALENDAR